BEGIN:VCALENDAR
VERSION:2.0
PRODID:-//ChamberMaster//Event Calendar 2.0//EN
METHOD:PUBLISH
X-PUBLISHED-TTL:P3D
REFRESH-INTERVAL:P3D
CALSCALE:GREGORIAN
BEGIN:VEVENT
DTSTART:20140311T223000Z
DTEND:20140312T003000Z
X-MICROSOFT-CDO-ALLDAYEVENT:FALSE
SUMMARY:How to Run for Local Elected Office
DESCRIPTION:How to Run for Local Elected Office\n\nHow does a person run to be elected to the Winona School Board\, City Council or Winona County Board? Is a campaign committee needed? What are the keys to a successful run for a local elected position?\n\nThe Winona Area Chamber of Commerce will host a Candidate School on Tuesday\, March 11 from 5:30   7:30 p.m. at the Winona Chamber Conference/Training room. In this non-partisan workshop\, participants will learn from experienced public service veterans the basics of running for a local elected position. This workshop is open to anyone who is interested in learning more about how local campaigns really work\, whether it is from a candidate perspective or as a volunteer supporter of a local candidate.\n\n\n\nThe workshop won't stop with the basics of local campaigning. Attendees will learn about what really happens after winning an election\, what financial compensation or potential benefits are available for those elected to local boards and councils\, and what local governance is all about.
X-ALT-DESC;FMTTYPE=text/html:<strong><span style="font-family:times new roman\,serif\;"><span style="font-size:12.0pt\;">How to Run for Local Elected Office</span></span></strong><br />\nHow does a person run to be elected to the Winona School Board\, City Council or Winona County Board? Is a campaign committee needed? What are the keys to a successful run for a local elected position?<br />\nThe Winona Area Chamber of Commerce will host a Candidate School on Tuesday\, March 11 from 5:30 &ndash\; 7:30 p.m. at the Winona Chamber Conference/Training room. In this non-partisan workshop\, participants will learn from experienced public service veterans the basics of running for a local elected position. This workshop is open to anyone who is interested in learning more about how local campaigns really work\, whether it is from a candidate perspective or as a volunteer supporter of a local candidate.<br />\n<br />\nThe workshop won&rsquo\;t stop with the basics of local campaigning. Attendees will learn about what really happens after winning an election\, what financial compensation or potential benefits are available for those elected to local boards and councils\, and what local governance is all about.
LOCATION:Winona Area Chamber of Commerce Conference Room 902 East Second Street Suite 120 Winona
UID:e.1434.2144
SEQUENCE:3
DTSTAMP:20260420T010845Z
URL:http://business.winonachamber.com/events/details/how-to-run-for-local-elected-office-03-11-2014-2144
END:VEVENT

END:VCALENDAR
