BEGIN:VCALENDAR
VERSION:2.0
PRODID:-//ChamberMaster//Event Calendar 2.0//EN
METHOD:PUBLISH
X-PUBLISHED-TTL:P3D
REFRESH-INTERVAL:P3D
CALSCALE:GREGORIAN
BEGIN:VEVENT
DTSTART:20130123T140000Z
DTEND:20130123T180000Z
X-MICROSOFT-CDO-ALLDAYEVENT:FALSE
SUMMARY:Leadership Correction - Class will be from 8 a.m. to noon tomorrow! Leadership Winona Class -Relationship/Communication
DESCRIPTION:Leadership Winona - Relationship/Communication\n\nPresented by: Lori Severson
X-ALT-DESC;FMTTYPE=text/html:Leadership Winona - Relationship/Communication<br />\nPresented by: Lori Severson 
LOCATION:Chamber of Commerce 902 East Second Street
UID:e.1434.908
SEQUENCE:3
DTSTAMP:20260422T233348Z
URL:http://business.winonachamber.com/events/details/leadership-correction-class-will-be-from-8-a-m-to-noon-tomorrow-leadership-winona-class-relationship-communication-01-23-2013-908
END:VEVENT

END:VCALENDAR
