BEGIN:VCALENDAR
VERSION:2.0
PRODID:-//ChamberMaster//Event Calendar 2.0//EN
METHOD:PUBLISH
X-PUBLISHED-TTL:P3D
REFRESH-INTERVAL:P3D
CALSCALE:GREGORIAN
BEGIN:VEVENT
DTSTART:20090801T130000Z
DTEND:20090801T050000Z
X-MICROSOFT-CDO-ALLDAYEVENT:FALSE
SUMMARY:Leadership Winona 2009 - 2010 Registration
DESCRIPTION:
X-ALT-DESC;FMTTYPE=text/html:
LOCATION:
UID:e.1434.443
SEQUENCE:3
DTSTAMP:20260426T005610Z
URL:http://business.winonachamber.com/events/details/leadership-winona-2009-2010-registration-08-01-2009-443
END:VEVENT

END:VCALENDAR
