BEGIN:VCALENDAR
VERSION:2.0
PRODID:-//ChamberMaster//Event Calendar 2.0//EN
METHOD:PUBLISH
X-PUBLISHED-TTL:P3D
REFRESH-INTERVAL:P3D
CALSCALE:GREGORIAN
BEGIN:VEVENT
DTSTART:20100801T130000Z
DTEND:20100901T220000Z
X-MICROSOFT-CDO-ALLDAYEVENT:FALSE
SUMMARY:Leadership Winona 2010/2011 Early Bird Registration Save $50
DESCRIPTION:
X-ALT-DESC;FMTTYPE=text/html:
LOCATION:
UID:e.1434.512
SEQUENCE:3
DTSTAMP:20260425T033519Z
URL:http://business.winonachamber.com/events/details/leadership-winona-2010-2011-early-bird-registration-save-50-08-01-2010-512
END:VEVENT

END:VCALENDAR
