BEGIN:VCALENDAR
VERSION:2.0
PRODID:-//ChamberMaster//Event Calendar 2.0//EN
METHOD:PUBLISH
X-PUBLISHED-TTL:P3D
REFRESH-INTERVAL:P3D
CALSCALE:GREGORIAN
BEGIN:VEVENT
DTSTART:20100701T130000Z
DTEND:20101026T050000Z
X-MICROSOFT-CDO-ALLDAYEVENT:FALSE
SUMMARY:Leadership Winona 2010/2011 Registration
DESCRIPTION:
X-ALT-DESC;FMTTYPE=text/html:
LOCATION:Winona Area Chamber of Commerce\, Inc.
UID:e.1434.511
SEQUENCE:3
DTSTAMP:20260425T020327Z
URL:http://business.winonachamber.com/events/details/leadership-winona-2010-2011-registration-07-01-2010-511
END:VEVENT

END:VCALENDAR
