BEGIN:VCALENDAR
VERSION:2.0
PRODID:-//ChamberMaster//Event Calendar 2.0//EN
METHOD:PUBLISH
X-PUBLISHED-TTL:P3D
REFRESH-INTERVAL:P3D
CALSCALE:GREGORIAN
BEGIN:VEVENT
DTSTART:20110901T130000Z
DTEND:20110901T050000Z
X-MICROSOFT-CDO-ALLDAYEVENT:FALSE
SUMMARY:Leadership Winona 2011/2012 Registration
DESCRIPTION:
X-ALT-DESC;FMTTYPE=text/html:
LOCATION:Winona Area Chamber of Commerce\, Inc.
UID:e.1434.594
SEQUENCE:3
DTSTAMP:20260424T020900Z
URL:http://business.winonachamber.com/events/details/leadership-winona-2011-2012-registration-09-01-2011-594
END:VEVENT

END:VCALENDAR
