BEGIN:VCALENDAR
VERSION:2.0
PRODID:-//ChamberMaster//Event Calendar 2.0//EN
METHOD:PUBLISH
X-PUBLISHED-TTL:P3D
REFRESH-INTERVAL:P3D
CALSCALE:GREGORIAN
BEGIN:VEVENT
DTSTART:20120321T170000Z
DTEND:20120321T180000Z
X-MICROSOFT-CDO-ALLDAYEVENT:FALSE
SUMMARY:Leadership Winona 2012 Graduation
DESCRIPTION:
X-ALT-DESC;FMTTYPE=text/html:
LOCATION:Jefferson Pub
UID:e.1434.624
SEQUENCE:3
DTSTAMP:20260423T180141Z
URL:http://business.winonachamber.com/events/details/leadership-winona-2012-graduation-03-21-2012-624
END:VEVENT

END:VCALENDAR
