BEGIN:VCALENDAR
VERSION:2.0
PRODID:-//ChamberMaster//Event Calendar 2.0//EN
METHOD:PUBLISH
X-PUBLISHED-TTL:P3D
REFRESH-INTERVAL:P3D
CALSCALE:GREGORIAN
BEGIN:VEVENT
DTSTART:20130327T170000Z
DTEND:20130327T183000Z
X-MICROSOFT-CDO-ALLDAYEVENT:FALSE
SUMMARY:Leadership Winona Celebration Luncheon
DESCRIPTION:Leadership Winona Completion.- Celebration Luncheon with Class\, Employers & Chamber Board.  Certificates presented
X-ALT-DESC;FMTTYPE=text/html:Leadership Winona Completion.- Celebration Luncheon with Class\, Employers &amp\; Chamber Board.&nbsp\; Certificates presented<br />\n
LOCATION:TBD
UID:e.1434.912
SEQUENCE:3
DTSTAMP:20260422T202619Z
URL:http://business.winonachamber.com/events/details/leadership-winona-celebration-luncheon-03-27-2013-912
END:VEVENT

END:VCALENDAR
