BEGIN:VCALENDAR
VERSION:2.0
PRODID:-//ChamberMaster//Event Calendar 2.0//EN
METHOD:PUBLISH
X-PUBLISHED-TTL:P3D
REFRESH-INTERVAL:P3D
CALSCALE:GREGORIAN
BEGIN:VEVENT
DTSTART:20130227T140000Z
DTEND:20130227T180000Z
X-MICROSOFT-CDO-ALLDAYEVENT:FALSE
SUMMARY:Leadership Winona Class -Advocacy and Winona Hot Topics
DESCRIPTION:Leadership Winona - Advocacy & Winona Hot Topics\n\nPresented by: Della Schmidt & Guest Speakers
X-ALT-DESC;FMTTYPE=text/html:Leadership Winona - Advocacy &amp\; Winona Hot Topics<br />\nPresented by: Della Schmidt &amp\; Guest Speakers 
LOCATION:Chamber of Commerce 902 East Second Street
UID:e.1434.910
SEQUENCE:3
DTSTAMP:20260422T220839Z
URL:http://business.winonachamber.com/events/details/leadership-winona-class-advocacy-and-winona-hot-topics-02-27-2013-910
END:VEVENT

END:VCALENDAR
