BEGIN:VCALENDAR
VERSION:2.0
PRODID:-//ChamberMaster//Event Calendar 2.0//EN
METHOD:PUBLISH
X-PUBLISHED-TTL:P3D
REFRESH-INTERVAL:P3D
CALSCALE:GREGORIAN
BEGIN:VEVENT
DTSTART:20110309T130000Z
DTEND:20110310T020000Z
X-MICROSOFT-CDO-ALLDAYEVENT:FALSE
SUMMARY:Leadership Winona Class - Business Day at the Capitol
DESCRIPTION:
X-ALT-DESC;FMTTYPE=text/html:
LOCATION:State Capitol
UID:e.1434.520
SEQUENCE:3
DTSTAMP:20260424T135442Z
URL:http://business.winonachamber.com/events/details/leadership-winona-class-business-day-at-the-capitol-03-09-2011-520
END:VEVENT

END:VCALENDAR
