BEGIN:VCALENDAR
VERSION:2.0
PRODID:-//ChamberMaster//Event Calendar 2.0//EN
METHOD:PUBLISH
X-PUBLISHED-TTL:P3D
REFRESH-INTERVAL:P3D
CALSCALE:GREGORIAN
BEGIN:VEVENT
DTSTART:20130313T130000Z
DTEND:20130313T170000Z
X-MICROSOFT-CDO-ALLDAYEVENT:FALSE
SUMMARY:Leadership Winona Class - Day at the Capitol
DESCRIPTION:Leadership Winona - MN Business Day at the Capitol\n\nBus Trip to Capitol
X-ALT-DESC;FMTTYPE=text/html:Leadership Winona - MN Business Day at the Capitol<br />\nBus Trip to Capitol<br />\n
LOCATION:Meeting Place TBD
UID:e.1434.911
SEQUENCE:3
DTSTAMP:20260422T202755Z
URL:http://business.winonachamber.com/events/details/leadership-winona-class-day-at-the-capitol-03-13-2013-911
END:VEVENT

END:VCALENDAR
