BEGIN:VCALENDAR
VERSION:2.0
PRODID:-//ChamberMaster//Event Calendar 2.0//EN
METHOD:PUBLISH
X-PUBLISHED-TTL:P3D
REFRESH-INTERVAL:P3D
CALSCALE:GREGORIAN
BEGIN:VEVENT
DTSTART:20101201T140000Z
DTEND:20101201T060000Z
X-MICROSOFT-CDO-ALLDAYEVENT:FALSE
SUMMARY:Leadership Winona Class - Diffusing Difficult Situations
DESCRIPTION:
X-ALT-DESC;FMTTYPE=text/html:
LOCATION:Chamber Office
UID:e.1434.516
SEQUENCE:3
DTSTAMP:20260424T224719Z
URL:http://business.winonachamber.com/events/details/leadership-winona-class-diffusing-difficult-situations-12-01-2010-516
END:VEVENT

END:VCALENDAR
