BEGIN:VCALENDAR
VERSION:2.0
PRODID:-//ChamberMaster//Event Calendar 2.0//EN
METHOD:PUBLISH
X-PUBLISHED-TTL:P3D
REFRESH-INTERVAL:P3D
CALSCALE:GREGORIAN
BEGIN:VEVENT
DTSTART:20130206T140000Z
DTEND:20130206T180000Z
X-MICROSOFT-CDO-ALLDAYEVENT:FALSE
SUMMARY:Leadership Winona Class - Do you Lead from your Strengths?
DESCRIPTION:Leadership Winona - Do you Lead from your Strengths\n\nPresented by: Barb Larsen
X-ALT-DESC;FMTTYPE=text/html:Leadership Winona - Do you Lead from your Strengths<br />\nPresented by: Barb Larsen 
LOCATION:Chamber of Commerce 902 East Second Street
UID:e.1434.909
SEQUENCE:3
DTSTAMP:20260422T220804Z
URL:http://business.winonachamber.com/events/details/leadership-winona-class-do-you-lead-from-your-strengths-02-06-2013-909
END:VEVENT

END:VCALENDAR
