BEGIN:VCALENDAR
VERSION:2.0
PRODID:-//ChamberMaster//Event Calendar 2.0//EN
METHOD:PUBLISH
X-PUBLISHED-TTL:P3D
REFRESH-INTERVAL:P3D
CALSCALE:GREGORIAN
BEGIN:VEVENT
DTSTART:20121024T173000Z
DTEND:20121024T210000Z
X-MICROSOFT-CDO-ALLDAYEVENT:FALSE
SUMMARY:Leadership Winona Class - Dynamics of Personalities
DESCRIPTION:Leadership Winona - Dynamics of Personalities   \n\nPresented by: Katy Smith
X-ALT-DESC;FMTTYPE=text/html:Leadership Winona - Dynamics of Personalities&nbsp\;&nbsp\;&nbsp\;<br />\nPresented by: Katy Smith 
LOCATION:Chamber of Commerce 902 East Second Street
UID:e.1434.904
SEQUENCE:3
DTSTAMP:20260423T063120Z
URL:http://business.winonachamber.com/events/details/leadership-winona-class-dynamics-of-personalities-10-24-2012-904
END:VEVENT

END:VCALENDAR
