BEGIN:VCALENDAR
VERSION:2.0
PRODID:-//ChamberMaster//Event Calendar 2.0//EN
METHOD:PUBLISH
X-PUBLISHED-TTL:P3D
REFRESH-INTERVAL:P3D
CALSCALE:GREGORIAN
BEGIN:VEVENT
DTSTART:20130109T140000Z
DTEND:20130109T180000Z
X-MICROSOFT-CDO-ALLDAYEVENT:FALSE
SUMMARY:Leadership Winona Class - Generations at Work
DESCRIPTION:Leadership Winona - Generations at Work\n\nPresented by: Diane Amundson
X-ALT-DESC;FMTTYPE=text/html:Leadership Winona - Generations at Work<br />\nPresented by: Diane Amundson 
LOCATION:Chamber of Commerce 902 East Second Street
UID:e.1434.907
SEQUENCE:3
DTSTAMP:20260422T233148Z
URL:http://business.winonachamber.com/events/details/leadership-winona-class-generations-at-work-01-09-2013-907
END:VEVENT

END:VCALENDAR
