BEGIN:VCALENDAR
VERSION:2.0
PRODID:-//ChamberMaster//Event Calendar 2.0//EN
METHOD:PUBLISH
X-PUBLISHED-TTL:P3D
REFRESH-INTERVAL:P3D
CALSCALE:GREGORIAN
BEGIN:VEVENT
DTSTART:20110112T140000Z
DTEND:20110112T060000Z
X-MICROSOFT-CDO-ALLDAYEVENT:FALSE
SUMMARY:Leadership Winona Class - Impactful Communication
DESCRIPTION:
X-ALT-DESC;FMTTYPE=text/html:
LOCATION:Chamber Office
UID:e.1434.517
SEQUENCE:3
DTSTAMP:20260424T224805Z
URL:http://business.winonachamber.com/events/details/leadership-winona-class-impactful-communication-01-12-2011-517
END:VEVENT

END:VCALENDAR
