BEGIN:VCALENDAR
VERSION:2.0
PRODID:-//ChamberMaster//Event Calendar 2.0//EN
METHOD:PUBLISH
X-PUBLISHED-TTL:P3D
REFRESH-INTERVAL:P3D
CALSCALE:GREGORIAN
BEGIN:VEVENT
DTSTART:20120928T130000Z
DTEND:20121023T130000Z
X-MICROSOFT-CDO-ALLDAYEVENT:FALSE
SUMMARY:Leadership Winona Registration 2012 - 2013
DESCRIPTION:The Leadership Winona program is about identifying emerging leaders\, broadening knowledge of the community and motivating and inspiring individuals to become leaders at work\, in the community or for personal growth. The class runs from September through March.  *Class size is limited to 35 people*
X-ALT-DESC;FMTTYPE=text/html:<span style="font-size:12px\;"><span style="font-family: arial\;">The Leadership Winona program is about identifying emerging leaders\, broadening knowledge of the community and motivating and inspiring individuals to become leaders at work\, in the community or for personal growth. The class runs from September through March.&nbsp\; *<em>Class size is limited to 35 people*</em></span></span>
LOCATION:Winona Area Chamber of Commerce 902 E. 2nd Street
UID:e.1434.611
SEQUENCE:3
DTSTAMP:20260423T063146Z
URL:http://business.winonachamber.com/events/details/leadership-winona-registration-2012-2013-09-28-2012-611
END:VEVENT

END:VCALENDAR
