BEGIN:VCALENDAR
VERSION:2.0
PRODID:-//ChamberMaster//Event Calendar 2.0//EN
METHOD:PUBLISH
X-PUBLISHED-TTL:P3D
REFRESH-INTERVAL:P3D
CALSCALE:GREGORIAN
BEGIN:VEVENT
DTSTART:20110407T130000Z
DTEND:20110407T220000Z
X-MICROSOFT-CDO-ALLDAYEVENT:FALSE
SUMMARY:Lean Essentials - Quick Changeover/Set-up Reduction- WTC
DESCRIPTION:For course information\, contact Joel Turino at 608-317-7134.  For registration visit westerntc.edu/bis/lean.asp  For questions contact Rose Schell at 608-785-9291
X-ALT-DESC;FMTTYPE=text/html:For course information\, contact Joel Turino at 608-317-7134.  For registration visit westerntc.edu/bis/lean.asp  For questions contact Rose Schell at 608-785-9291
LOCATION:Winona Chamber Training Room
UID:e.1434.561
SEQUENCE:3
DTSTAMP:20260424T115920Z
URL:http://business.winonachamber.com/events/details/lean-essentials-quick-changeover-set-up-reduction-wtc-04-07-2011-561
END:VEVENT

END:VCALENDAR
