BEGIN:VCALENDAR
VERSION:2.0
PRODID:-//ChamberMaster//Event Calendar 2.0//EN
METHOD:PUBLISH
X-PUBLISHED-TTL:P3D
REFRESH-INTERVAL:P3D
CALSCALE:GREGORIAN
BEGIN:VEVENT
DTSTART:20110428T130000Z
DTEND:20110428T220000Z
X-MICROSOFT-CDO-ALLDAYEVENT:FALSE
SUMMARY:Lean Essentials - Total Productive Maintenance
DESCRIPTION:For course information\, contact Joel Turino at 608-317-7134.  For registration visit westerntc.edu/bis/lean.asp  For questions contact Rose Schell at 608-785-9291
X-ALT-DESC;FMTTYPE=text/html:For course information\, contact Joel Turino at 608-317-7134.  For registration visit westerntc.edu/bis/lean.asp  For questions contact Rose Schell at 608-785-9291
LOCATION:Winona Chamber Training Room
UID:e.1434.564
SEQUENCE:3
DTSTAMP:20260424T134312Z
URL:http://business.winonachamber.com/events/details/lean-essentials-total-productive-maintenance-04-28-2011-564
END:VEVENT

END:VCALENDAR
