BEGIN:VCALENDAR
VERSION:2.0
PRODID:-//ChamberMaster//Event Calendar 2.0//EN
METHOD:PUBLISH
X-PUBLISHED-TTL:P3D
REFRESH-INTERVAL:P3D
CALSCALE:GREGORIAN
BEGIN:VEVENT
DTSTART:20140919T000000Z
DTEND:20140919T020000Z
X-MICROSOFT-CDO-ALLDAYEVENT:FALSE
SUMMARY:Lindy at the Levee
DESCRIPTION:Calling all Hep Cats & Kittens (ladies and gents who like to SWING DANCE)! Slap on your ground-grippers (shoes) and join Molly & Stan Breitlow for a great evening of rug cutting (dancing) at the Levee. First is a Lindy Hop lesson followed by lively socialization and some tasty grub. Whether you?re a dead hoofer (poor dancer) or a ducky shincracker (good dancer)\, you?re soiten (certain) to have a swell (good) time. Bringing partners to dance with and snacks to share are optional\; all ages welcome. In case of rain\, meet at the Winona Athletic Club on Mankato Avenue. This event sponsored by the Winona Park & Recreation Department.
X-ALT-DESC;FMTTYPE=text/html:Calling all Hep Cats &amp\; Kittens (ladies and gents who like to SWING DANCE)! Slap on your ground-grippers (shoes) and join Molly &amp\; Stan Breitlow for a great evening of rug cutting (dancing) at the Levee. First is a Lindy Hop lesson followed by lively socialization and some tasty grub. Whether you?re a dead hoofer (poor dancer) or a ducky shincracker (good dancer)\, you?re soiten (certain) to have a swell (good) time. Bringing partners to dance with and snacks to share are optional\; all ages welcome. In case of rain\, meet at the Winona Athletic Club on Mankato Avenue. This event sponsored by the Winona Park &amp\; Recreation Department.
LOCATION:Levee Patio\, Levee Park (Winona)
UID:e.1434.2209
SEQUENCE:3
DTSTAMP:20260419T153529Z
URL:http://business.winonachamber.com/events/details/lindy-at-the-levee-09-18-2014-2209
END:VEVENT

END:VCALENDAR
