BEGIN:VCALENDAR
VERSION:2.0
PRODID:-//ChamberMaster//Event Calendar 2.0//EN
METHOD:PUBLISH
X-PUBLISHED-TTL:P3D
REFRESH-INTERVAL:P3D
CALSCALE:GREGORIAN
BEGIN:VEVENT
DTSTART:20141112T180000Z
DTEND:20141112T190000Z
X-MICROSOFT-CDO-ALLDAYEVENT:FALSE
SUMMARY:Lunchtime Learning - Adding to the Bottom Line
DESCRIPTION:Lunchtime Learning\n\nAdding to the Bottom Line through Energy Efficiency and Waste Management Presented by -  Jill Curran\, MN Chamber of Commerce
X-ALT-DESC;FMTTYPE=text/html:Lunchtime Learning<br />\nAdding to the Bottom Line through Energy Efficiency and Waste Management Presented by -&nbsp\; Jill Curran\, MN Chamber of Commerce
LOCATION:Chamber Conference Room 902 East Second Street Suite 120
UID:e.1434.2222
SEQUENCE:3
DTSTAMP:20260419T121342Z
URL:http://business.winonachamber.com/events/details/lunchtime-learning-adding-to-the-bottom-line-11-12-2014-2222
END:VEVENT

END:VCALENDAR
