BEGIN:VCALENDAR
VERSION:2.0
PRODID:-//ChamberMaster//Event Calendar 2.0//EN
METHOD:PUBLISH
X-PUBLISHED-TTL:P3D
REFRESH-INTERVAL:P3D
CALSCALE:GREGORIAN
BEGIN:VEVENT
DTSTART:20101021T164500Z
DTEND:20101021T180000Z
X-MICROSOFT-CDO-ALLDAYEVENT:FALSE
SUMMARY:Lunchtime Learning - Benefits of Business & Community Conne
DESCRIPTION:
X-ALT-DESC;FMTTYPE=text/html:
LOCATION:Winona Area Chamber of Commerce\, Inc.
UID:e.1434.527
SEQUENCE:3
DTSTAMP:20260425T033745Z
URL:http://business.winonachamber.com/events/details/lunchtime-learning-benefits-of-business-community-conne-10-21-2010-527
END:VEVENT

END:VCALENDAR
