BEGIN:VCALENDAR
VERSION:2.0
PRODID:-//ChamberMaster//Event Calendar 2.0//EN
METHOD:PUBLISH
X-PUBLISHED-TTL:P3D
REFRESH-INTERVAL:P3D
CALSCALE:GREGORIAN
BEGIN:VEVENT
DTSTART:20121108T173000Z
DTEND:20121108T190000Z
X-MICROSOFT-CDO-ALLDAYEVENT:FALSE
SUMMARY:Lunchtime Learning - Constant Contact Seminar
DESCRIPTION:Lunchtime Learning\n\nConstant Contact\n\n \n\nSocial Media - Engagement\n\nand Save Local for the Holiday Promotional Ideas\n\n\n\n Facilitator: \n\nJeff Ferrazzo\, Constant Contact Regional Development Director for Minnesota
X-ALT-DESC;FMTTYPE=text/html:<span style="font-size:14px\;"><span style="font-family: tahoma\;"><strong><span style="color: maroon\;">Lunchtime Learning</span></strong><br />\n<strong><span style="color: maroon\;">Constant Contact</span></strong><br />\n&nbsp\;<br />\n<span style="color: maroon\;">Social Media - Engagement<br />\nand Save Local for the Holiday Promotional Ideas</span><br />\n<br />\n&nbsp\;<span style="color: maroon\;">Facilitator: </span><br />\n<span style="color: maroon\;">Jeff Ferrazzo\, Constant Contact Regional Development Director for Minnesota<br />\n<br />\n</span></span></span>
LOCATION:Winona Area Chamber of Commerce 902 East Second Street\, Suite 120
UID:e.1434.1187
SEQUENCE:3
DTSTAMP:20260423T031301Z
URL:http://business.winonachamber.com/events/details/lunchtime-learning-constant-contact-seminar-11-08-2012-1187
END:VEVENT

END:VCALENDAR
