BEGIN:VCALENDAR
VERSION:2.0
PRODID:-//ChamberMaster//Event Calendar 2.0//EN
METHOD:PUBLISH
X-PUBLISHED-TTL:P3D
REFRESH-INTERVAL:P3D
CALSCALE:GREGORIAN
BEGIN:VEVENT
DTSTART:20141016T170000Z
DTEND:20141016T180000Z
X-MICROSOFT-CDO-ALLDAYEVENT:FALSE
SUMMARY:Lunchtime Learning - How to Navigate and Maximize LinkedIn
DESCRIPTION:Lunchtime Learning\n\nHow to Navigate and Maximize LinkedIn\n\n\n\n     Establish your professional profile and control one of the top search results for your name.\n\n     Build and maintain a broader network of professionals you can trust.\n\n     Learn about other companies and discover new opportunities.\n\n     Leverage powerful tools to find and reach the people you need.\n\n\n\nPresented by Chris Dembiec\n\nExpress Employment Professionals
X-ALT-DESC;FMTTYPE=text/html:Lunchtime Learning<br />\nHow to Navigate and Maximize LinkedIn<br />\n<br />\n&bull\;&nbsp\;&nbsp\; &nbsp\;Establish your professional profile and control one of the top search results for your name.<br />\n&bull\;&nbsp\;&nbsp\; &nbsp\;Build and maintain a broader network of professionals you can trust.<br />\n&bull\;&nbsp\;&nbsp\; &nbsp\;Learn about other companies and discover new opportunities.<br />\n&bull\;&nbsp\;&nbsp\; &nbsp\;Leverage powerful tools to find and reach the people you need.<br />\n<br />\nPresented by Chris Dembiec<br />\nExpress Employment Professionals
LOCATION:Chamber Conference Room 902 East Second Street Suite 120
UID:e.1434.2220
SEQUENCE:3
DTSTAMP:20260419T135631Z
URL:http://business.winonachamber.com/events/details/lunchtime-learning-how-to-navigate-and-maximize-linkedin-10-16-2014-2220
END:VEVENT

END:VCALENDAR
