BEGIN:VCALENDAR
VERSION:2.0
PRODID:-//ChamberMaster//Event Calendar 2.0//EN
METHOD:PUBLISH
X-PUBLISHED-TTL:P3D
REFRESH-INTERVAL:P3D
CALSCALE:GREGORIAN
BEGIN:VEVENT
DTSTART:20150226T180000Z
DTEND:20150226T190000Z
X-MICROSOFT-CDO-ALLDAYEVENT:FALSE
SUMMARY:Lunchtime Learning - How Winona Can be a Healthier Place
DESCRIPTION:How Winona Can be a Healthier Place\n\n\n\nPresented by:  Rachelle Schultz\n\nWinona Health\, CEO\n\nWellville Winona is a community collaborative involving more than 10 organizations to focus on how to make our community one that produces / promotes health   employers are a key audience as they are impacted by the health status of their employees.  The Wellville collaborative is focusing on engaging all parties in understanding wellbeing\, supporting it and developing strategies that can advance this wherever someone works\, goes to school\, interacts\, etc  I will be talking broadly about how we got involved in Wellville and where our collaborative is today   principles of collaboration are those things we all must agree to as we work together   this work is very interconnected and if we don't align it we will not be able to leverage everyone's efforts.\n\n\n\nLearn about:\n\nThe community collaborative Winona Wellville\n\n   - Principles for collaboration\n\nKey challenges to improving the health and wellbeing of Winonans\n\n   - Community needs assessment priorities\n\nMeasures of wellbeing\n\nShare employer perspectives related to health and wellbeing of their workforce
X-ALT-DESC;FMTTYPE=text/html:How Winona Can be a Healthier Place<br />\n<br />\nPresented by:&nbsp\; Rachelle Schultz<br />\nWinona Health\, CEO<br />\nWellville Winona is a community collaborative involving more than 10 organizations to focus on how to make our community one that produces / promotes health &hellip\; employers are a key audience as they are impacted by the health status of their employees.&nbsp\; The Wellville collaborative is focusing on engaging all parties in understanding wellbeing\, supporting it and developing strategies that can advance this wherever someone works\, goes to school\, interacts\, etc&hellip\; I will be talking broadly about how we got involved in Wellville and where our collaborative is today &hellip\; principles of collaboration are those things we all must agree to as we work together &ndash\; this work is very interconnected and if we don&rsquo\;t align it we will not be able to leverage everyone&rsquo\;s efforts.<br />\n<br />\nLearn about:<br />\nThe community collaborative Winona Wellville<br />\n&nbsp\;&nbsp\; - Principles for collaboration<br />\nKey challenges to improving the health and wellbeing of Winonans<br />\n&nbsp\;&nbsp\; - Community needs assessment priorities<br />\nMeasures of wellbeing<br />\nShare employer perspectives related to health and wellbeing of their workforce<br />\n&nbsp\;
LOCATION:Chamber Conference Room 902 East Second Street Suite 120
UID:e.1434.2252
SEQUENCE:3
DTSTAMP:20260419T125052Z
URL:http://business.winonachamber.com/events/details/lunchtime-learning-how-winona-can-be-a-healthier-place-02-26-2015-2252
END:VEVENT

END:VCALENDAR
