BEGIN:VCALENDAR
VERSION:2.0
PRODID:-//ChamberMaster//Event Calendar 2.0//EN
METHOD:PUBLISH
X-PUBLISHED-TTL:P3D
REFRESH-INTERVAL:P3D
CALSCALE:GREGORIAN
BEGIN:VEVENT
DTSTART:20090820T163000Z
DTEND:20090820T180000Z
X-MICROSOFT-CDO-ALLDAYEVENT:FALSE
SUMMARY:Lunchtime Learning - Social Media
DESCRIPTION:
X-ALT-DESC;FMTTYPE=text/html:
LOCATION:Tandeski Center
UID:e.1434.468
SEQUENCE:3
DTSTAMP:20260426T020622Z
URL:http://business.winonachamber.com/events/details/lunchtime-learning-social-media-08-20-2009-468
END:VEVENT

END:VCALENDAR
