BEGIN:VCALENDAR
VERSION:2.0
PRODID:-//ChamberMaster//Event Calendar 2.0//EN
METHOD:PUBLISH
X-PUBLISHED-TTL:P3D
REFRESH-INTERVAL:P3D
CALSCALE:GREGORIAN
BEGIN:VEVENT
DTSTART:20140916T170000Z
DTEND:20140916T180000Z
X-MICROSOFT-CDO-ALLDAYEVENT:FALSE
SUMMARY:Lunchtime Learning Why They Buy
DESCRIPTION:An hour-long crash course in the science of shopping. Dr. Craft will make the case for going beyond the sales tally in order to better understand your customers and more fully meet their needs regarding space\, merchandising and signage.
X-ALT-DESC;FMTTYPE=text/html:<span style="font-size:12.0pt\;">An hour-long crash course in the science of shopping. Dr. Craft will make the case for going beyond the sales tally in order to better understand your customers and more fully meet their needs regarding space\, merchandising and signage. </span>
LOCATION:Winona Area Chamber of Commerce Training Room. 902 E 2nd Street\, Suite 120
UID:e.1434.2204
SEQUENCE:3
DTSTAMP:20260419T171112Z
URL:http://business.winonachamber.com/events/details/lunchtime-learning-why-they-buy-09-16-2014-2204
END:VEVENT

END:VCALENDAR
