BEGIN:VCALENDAR
VERSION:2.0
PRODID:-//ChamberMaster//Event Calendar 2.0//EN
METHOD:PUBLISH
X-PUBLISHED-TTL:P3D
REFRESH-INTERVAL:P3D
CALSCALE:GREGORIAN
BEGIN:VEVENT
DTSTART:20110907T163000Z
DTEND:20110907T180000Z
X-MICROSOFT-CDO-ALLDAYEVENT:FALSE
SUMMARY:Lunchtime Learning with Bruce Christopher
DESCRIPTION:
X-ALT-DESC;FMTTYPE=text/html:
LOCATION:Winona Area Chamber of Commerce\, Inc.
UID:e.1434.593
SEQUENCE:3
DTSTAMP:20260424T031944Z
URL:http://business.winonachamber.com/events/details/lunchtime-learning-with-bruce-christopher-09-07-2011-593
END:VEVENT

END:VCALENDAR
