BEGIN:VCALENDAR
VERSION:2.0
PRODID:-//ChamberMaster//Event Calendar 2.0//EN
METHOD:PUBLISH
X-PUBLISHED-TTL:P3D
REFRESH-INTERVAL:P3D
CALSCALE:GREGORIAN
BEGIN:VEVENT
DTSTART:20130601T123000Z
DTEND:20130601T183000Z
X-MICROSOFT-CDO-ALLDAYEVENT:FALSE
SUMMARY:Main Street Landscaping Event
DESCRIPTION:Winona Main Street volunteers will be working on a beautification project by digging out old soil and mulch and replacing with fresh soil\, mulch\, and new plants.  If you plan on helping\, make sure you're ready to get dirty!\n\n\n\nVolunteers are needed!
X-ALT-DESC;FMTTYPE=text/html:Winona Main Street volunteers will be working on a beautification project by digging out old soil and mulch and replacing with fresh soil\, mulch\, and new plants.&nbsp\; If you plan on helping\, make sure you&#39\;re ready to get dirty!<br />\n<br />\nVolunteers are needed!
LOCATION:Within Municipal Lot #3 at the corner of Third and Center streets.
UID:e.1434.1663
SEQUENCE:3
DTSTAMP:20260422T155320Z
URL:http://business.winonachamber.com/events/details/main-street-landscaping-event-06-01-2013-1663
END:VEVENT

END:VCALENDAR
