BEGIN:VCALENDAR
VERSION:2.0
PRODID:-//ChamberMaster//Event Calendar 2.0//EN
METHOD:PUBLISH
X-PUBLISHED-TTL:P3D
REFRESH-INTERVAL:P3D
CALSCALE:GREGORIAN
BEGIN:VEVENT
DTSTART;VALUE=DATE:20141128
DTEND;VALUE=DATE:20141129
TRANSP:TRANSPARENT
X-MICROSOFT-CDO-ALLDAYEVENT:TRUE
SUMMARY:Main Street Not-So Black Friday
DESCRIPTION:Stay Tuned for more information...
X-ALT-DESC;FMTTYPE=text/html:Stay Tuned for more information...
LOCATION:
UID:e.1434.2179
SEQUENCE:3
DTSTAMP:20260419T122332Z
URL:http://business.winonachamber.com/events/details/main-street-not-so-black-friday-11-28-2014-2179
END:VEVENT

END:VCALENDAR
