BEGIN:VCALENDAR
VERSION:2.0
PRODID:-//ChamberMaster//Event Calendar 2.0//EN
METHOD:PUBLISH
X-PUBLISHED-TTL:P3D
REFRESH-INTERVAL:P3D
CALSCALE:GREGORIAN
BEGIN:VEVENT
DTSTART:20141017T220000Z
DTEND:20141018T020000Z
X-MICROSOFT-CDO-ALLDAYEVENT:FALSE
SUMMARY:Main Street Progressive Dinner Fundraiser
DESCRIPTION:Winona Main Street Presents the Award Winning 2nd Annual Progressive Dinner\n\nFriday October 17th 5-9pm\n\n \n\nTimeline:\n\n5pm- Check in and Win A Wine Cellar drop off at Fastenal Museum (69 Lafayette Street-Behind Acoustic Cafe)\n\n5:30pm-6:45pm- Hors d' oeuvres at Merchants Bank (Doors open at 5:30   Tour at 6pm)\n\n6:45pm-8:00pm- Main Entree at Bub's Lower Level\n\n8:00pm-9:00pm-Dessert and "Win a Wine Cellar" at Winona City Hall\n\n\n\n \n\nTickets are $40 per person which covers all food.  There will be cash bars at Merchants and Bub?s.\n\n \n\nWhat is Win A Wine Cellar?  We have $250 of wine to start the cellar.  Individuals that come to the Progressive Dinner can bring a bottle of wine to get their first ticket.  This enters the individual into the drawing for a chance to win the collection of wine.  Each individual can purchase more chances to win throughout the evening.  Last year there were a total of 96 bottles of wine (30 bottles from the $250 collection and 66 bottles that were brought in by participants) that was divided amongst 3 winners.
X-ALT-DESC;FMTTYPE=text/html:<span style="color:#1F497D\;">Winona Main Street Presents the Award Winning 2<sup>nd</sup> Annual Progressive Dinner</span><br />\n<span style="color:#1F497D\;">Friday October 17<sup>th</sup> 5-9pm</span><br />\n&nbsp\;<br />\n<span style="color:#1F497D\;">Timeline:</span><br />\n<strong><span style="color:black\;"><span style="font-family:cambria\,serif\;">5pm</span></span></strong><span style="color:black\;"><span style="font-family:cambria\,serif\;">- Check in and Win A Wine Cellar drop off at Fastenal Museum (69 Lafayette Street-Behind Acoustic Cafe)</span></span><br />\n<strong><span style="color:black\;"><span style="font-family:cambria\,serif\;">5:30pm-6:45pm</span></span></strong><span style="color:black\;"><span style="font-family:cambria\,serif\;">- Hors d&#39\; oeuvres at Merchants Bank (Doors open at 5:30 &ndash\; Tour at 6pm)</span></span><br />\n<strong><span style="color:black\;"><span style="font-family:cambria\,serif\;">6:45pm-8:00pm</span></span></strong><span style="color:black\;"><span style="font-family:cambria\,serif\;">- Main Entree at Bub&#39\;s Lower Level</span></span><br />\n<strong><span style="color:black\;"><span style="font-family:cambria\,serif\;">8:00pm-9:</span></span></strong><strong><span style="color:black\;"><span style="font-family:cambria\,serif\;">00pm</span></span></strong><span style="color:black\;"><span style="font-family:cambria\,serif\;">-Dessert</span></span><span style="color:black\;"><span style="font-family:cambria\,serif\;"> and &quot\;Win a Wine Cellar&quot\; at Winona City Hall</span></span><br />\n<br />\n&nbsp\;<br />\n<span style="color:#1F497D\;">Tickets are $40 per person which covers all food.&nbsp\; There will be cash bars at Merchants and Bub?s.</span><br />\n&nbsp\;<br />\n<span style="color:#1F497D\;">What is Win A Wine Cellar?&nbsp\; We have $250 of wine to start the cellar.&nbsp\; Individuals that come to the Progressive Dinner can bring a bottle of wine to get their first ticket.&nbsp\; This enters the individual into the drawing for a chance to win the collection of wine.&nbsp\; Each individual can purchase more chances to win throughout the evening.&nbsp\; Last year there were a total of 96 bottles of wine (30 bottles from the $250 collection and 66 bottles that were brought in by participants) that was divided amongst 3 winners.&nbsp\; </span><br />\n&nbsp\;
LOCATION:Historic Downtown Winona 2014 Progressive Dinner October 17th from 5pm-9pm. The timeline is as follows: 5:00 pm - 6:15 pm - Registration and Sneak Peak at the Fastenal Museum (located behind Acoustic on Lafayette Street) 6:15 pm - 7:00 pm - Hors d'oeuvres and wine at Merchants Bank 7:00 pm - 8:15 pm - Salad and Main Entree at Bub's Lower Level 8:15 pm - 9:00 pm - Dessert at Winona City Hall
UID:e.1434.2178
SEQUENCE:3
DTSTAMP:20260419T135726Z
URL:http://business.winonachamber.com/events/details/main-street-progressive-dinner-fundraiser-10-17-2014-2178
END:VEVENT

END:VCALENDAR
