BEGIN:VCALENDAR
VERSION:2.0
PRODID:-//ChamberMaster//Event Calendar 2.0//EN
METHOD:PUBLISH
X-PUBLISHED-TTL:P3D
REFRESH-INTERVAL:P3D
CALSCALE:GREGORIAN
BEGIN:VEVENT
DTSTART:20141120T230000Z
DTEND:20141121T010000Z
X-MICROSOFT-CDO-ALLDAYEVENT:FALSE
SUMMARY:Main Street Year End Social
DESCRIPTION:The Year End Social is an opportunity for Main Street staff and key volunteers to say thank you to all our volunteers\, participants\, and sponsors.  A light agenda will take place\, hors d' oeuvres provided\, and a cash bar will be available.  Additionally\, this will be a great opportunity to learn more about other Friends of Main Street.\n\n\n\nSpace will be limited - Please RSVP by Nov 14\, 2014
X-ALT-DESC;FMTTYPE=text/html:The Year End Social is an opportunity for Main Street staff and key volunteers to say thank you to all our volunteers\, participants\, and sponsors.&nbsp\; A light agenda will take place\, hors d&#39\; oeuvres provided\, and a cash bar will be available.&nbsp\; Additionally\, this will be a great opportunity to learn more about other Friends of Main Street.<br />\n<br />\nSpace will be limited - Please RSVP by Nov 14\, 2014
LOCATION:
UID:e.1434.2241
SEQUENCE:3
DTSTAMP:20260419T121734Z
URL:http://business.winonachamber.com/events/details/main-street-year-end-social-11-20-2014-2241
END:VEVENT

END:VCALENDAR
