BEGIN:VCALENDAR
VERSION:2.0
PRODID:-//ChamberMaster//Event Calendar 2.0//EN
METHOD:PUBLISH
X-PUBLISHED-TTL:P3D
REFRESH-INTERVAL:P3D
CALSCALE:GREGORIAN
BEGIN:VEVENT
DTSTART:20101028T140000Z
DTEND:20101029T033000Z
X-MICROSOFT-CDO-ALLDAYEVENT:FALSE
SUMMARY:Manufacturer's Week 2010 Tour Behrens
DESCRIPTION:glasses
X-ALT-DESC;FMTTYPE=text/html:glasses
LOCATION:Behrens Manufacturing\, LLC
UID:e.1434.531
SEQUENCE:3
DTSTAMP:20260425T021347Z
URL:http://business.winonachamber.com/events/details/manufacturer-s-week-2010-tour-behrens-10-28-2010-531
END:VEVENT

END:VCALENDAR
