BEGIN:VCALENDAR
VERSION:2.0
PRODID:-//ChamberMaster//Event Calendar 2.0//EN
METHOD:PUBLISH
X-PUBLISHED-TTL:P3D
REFRESH-INTERVAL:P3D
CALSCALE:GREGORIAN
BEGIN:VEVENT
DTSTART:20101027T143000Z
DTEND:20101028T033000Z
X-MICROSOFT-CDO-ALLDAYEVENT:FALSE
SUMMARY:Manufacturer's Week 2010 Tour Knitcraft
DESCRIPTION:
X-ALT-DESC;FMTTYPE=text/html:
LOCATION:Knitcraft Corporation
UID:e.1434.532
SEQUENCE:3
DTSTAMP:20260425T021700Z
URL:http://business.winonachamber.com/events/details/manufacturer-s-week-2010-tour-knitcraft-10-27-2010-532
END:VEVENT

END:VCALENDAR
