BEGIN:VCALENDAR
VERSION:2.0
PRODID:-//ChamberMaster//Event Calendar 2.0//EN
METHOD:PUBLISH
X-PUBLISHED-TTL:P3D
REFRESH-INTERVAL:P3D
CALSCALE:GREGORIAN
BEGIN:VEVENT
DTSTART:20101026T150000Z
DTEND:20101027T043000Z
X-MICROSOFT-CDO-ALLDAYEVENT:FALSE
SUMMARY:Manufacturer's Week 2010 Tour Winona Lighting
DESCRIPTION:glasses
X-ALT-DESC;FMTTYPE=text/html:glasses
LOCATION:Winona Lighting
UID:e.1434.537
SEQUENCE:3
DTSTAMP:20260425T033936Z
URL:http://business.winonachamber.com/events/details/manufacturer-s-week-2010-tour-winona-lighting-10-26-2010-537
END:VEVENT

END:VCALENDAR
