BEGIN:VCALENDAR
VERSION:2.0
PRODID:-//ChamberMaster//Event Calendar 2.0//EN
METHOD:PUBLISH
X-PUBLISHED-TTL:P3D
REFRESH-INTERVAL:P3D
CALSCALE:GREGORIAN
BEGIN:VEVENT
DTSTART:20121011T140000Z
DTEND:20121011T153000Z
X-MICROSOFT-CDO-ALLDAYEVENT:FALSE
SUMMARY:Manufacturer Tours - Benchmark
DESCRIPTION:Manufacturer & Technology Week Tours\n\nBenchmark
X-ALT-DESC;FMTTYPE=text/html:Manufacturer &amp\; Technology Week Tours<br />\nBenchmark<br />\n<br />\n
LOCATION:Benchmark 4065 Theurer Blvd.
UID:e.1434.1182
SEQUENCE:3
DTSTAMP:20260423T043353Z
URL:http://business.winonachamber.com/events/details/manufacturer-tours-benchmark-10-11-2012-1182
END:VEVENT

END:VCALENDAR
