BEGIN:VCALENDAR
VERSION:2.0
PRODID:-//ChamberMaster//Event Calendar 2.0//EN
METHOD:PUBLISH
X-PUBLISHED-TTL:P3D
REFRESH-INTERVAL:P3D
CALSCALE:GREGORIAN
BEGIN:VEVENT
DTSTART:20121010T180000Z
DTEND:20121010T190000Z
X-MICROSOFT-CDO-ALLDAYEVENT:FALSE
SUMMARY:Manufacturer Tours - Miller Felpax 10/10 1:00 pm
DESCRIPTION:Manufacturer & Technology Week Tours\n\nMiller Felpax\n\n\n\nClosed Toe Shoes required
X-ALT-DESC;FMTTYPE=text/html:Manufacturer &amp\; Technology Week Tours<br />\nMiller Felpax<br />\n<br />\nClosed Toe Shoes required
LOCATION:Miller Felpax 1155 East Eighth Street Winona
UID:e.1434.1178
SEQUENCE:3
DTSTAMP:20260423T043504Z
URL:http://business.winonachamber.com/events/details/manufacturer-tours-miller-felpax-10-10-1-00-pm-10-10-2012-1178
END:VEVENT

END:VCALENDAR
