BEGIN:VCALENDAR
VERSION:2.0
PRODID:-//ChamberMaster//Event Calendar 2.0//EN
METHOD:PUBLISH
X-PUBLISHED-TTL:P3D
REFRESH-INTERVAL:P3D
CALSCALE:GREGORIAN
BEGIN:VEVENT
DTSTART:20130808T130000Z
DTEND:20130808T220000Z
X-MICROSOFT-CDO-ALLDAYEVENT:FALSE
SUMMARY:Marketing Through Social Media Analytics:
DESCRIPTION:This one-day course focuses on providing tools and techniques in a business context to understand and leverage readily available social media information. Participants will learn strategies relating to the foundations of social listening\, social media measurement\, leveraging consumer-intelligence data\, and context-driven strategies for real-world situations. Your program registration will also include a follow-up webinar two-weeks after the program to answer questions. Credit and non-credit registration options available. This program is offered in collaboration with University of Wisconsin-Stout Online Services and Professional Education Programs and Services.
X-ALT-DESC;FMTTYPE=text/html:<span style="line-height: 115%\; font-family: &quot\;Calibri&quot\;\,&quot\;sans-serif&quot\;\; font-size: 11pt\; mso-ascii-theme-font: minor-latin\; mso-fareast-font-family: Calibri\; mso-fareast-theme-font: minor-latin\; mso-hansi-theme-font: minor-latin\; mso-bidi-font-family: &quot\;Times New Roman&quot\;\; mso-bidi-theme-font: minor-bidi\; mso-ansi-language: EN-US\; mso-fareast-language: EN-US\; mso-bidi-language: AR-SA\;"><font color="#000000">This one-day course focuses on providing tools and techniques in a business context to understand and leverage readily available social media information. Participants will learn strategies relating to the foundations of social listening\, social media measurement\, leveraging consumer-intelligence data\, and context-driven strategies for real-world situations. Your program registration will also include a follow-up webinar two-weeks after the program to answer questions. Credit and non-credit registration options available. This program is offered in collaboration with University of Wisconsin-Stout Online Services and Professional Education Programs and Services.</font></span>
LOCATION:University of Wisconsin-Stout Memorial Student Center 302 10th Ave. E. Menomonie\, WI 54751
UID:e.1434.2085
SEQUENCE:3
DTSTAMP:20260422T122426Z
URL:http://business.winonachamber.com/events/details/marketing-through-social-media-analytics-08-08-2013-2085
END:VEVENT

END:VCALENDAR
