BEGIN:VCALENDAR
VERSION:2.0
PRODID:-//ChamberMaster//Event Calendar 2.0//EN
METHOD:PUBLISH
X-PUBLISHED-TTL:P3D
REFRESH-INTERVAL:P3D
CALSCALE:GREGORIAN
BEGIN:VEVENT
DTSTART:20101114T010000Z
DTEND:20101120T060000Z
X-MICROSOFT-CDO-ALLDAYEVENT:FALSE
SUMMARY:Masterpiece Mystery!
DESCRIPTION:Sherlock Holmes stalks again in a thrilling contemporary version of Arthur Conan Doyle’s classic\, starring Benedict Cumberbatch (Atonement\, The Last Enemy) as the go-to consulting detective in 21st century London\, with Martin Freeman (The Office on Trial\, The Forsyte Saga) as the long suffering Inspector Lestrade. Fast-paced\, funny\, and surreally true to the hero’s fantastic gifts for deduction\, the series is co-created by Steven Moffat (Doctor Who) and Mark Gatiss (Doctor Who).
X-ALT-DESC;FMTTYPE=text/html:Sherlock Holmes stalks again in a thrilling contemporary version of Arthur Conan Doyle’s classic\, starring Benedict Cumberbatch (Atonement\, The Last Enemy) as the go-to consulting detective in 21st century London\, with Martin Freeman (The Office on Trial\, The Forsyte Saga) as the long suffering Inspector Lestrade. Fast-paced\, funny\, and surreally true to the hero’s fantastic gifts for deduction\, the series is co-created by Steven Moffat (Doctor Who) and Mark Gatiss (Doctor Who).
LOCATION:
UID:e.1434.541
SEQUENCE:3
DTSTAMP:20260425T002313Z
URL:http://business.winonachamber.com/events/details/masterpiece-mystery-11-13-2010-541
END:VEVENT

END:VCALENDAR
