BEGIN:VCALENDAR
VERSION:2.0
PRODID:-//ChamberMaster//Event Calendar 2.0//EN
METHOD:PUBLISH
X-PUBLISHED-TTL:P3D
REFRESH-INTERVAL:P3D
CALSCALE:GREGORIAN
BEGIN:VEVENT
DTSTART:20120724T123000Z
DTEND:20120724T140000Z
X-MICROSOFT-CDO-ALLDAYEVENT:FALSE
SUMMARY:Mayoral Candidate Debate - Eggs 'n' Issues
DESCRIPTION:Winona Mayoral Candidate Debate\n\n\n\n2012 City of Winona Mayoral Candidates:\n\nGeorge Borzyskowski\n\nSusan Hoghaug\n\nMark F. Peterson\n\nJohn Anthony Skalitzky\n\nJoyce Tlougan\n\nDebbie White
X-ALT-DESC;FMTTYPE=text/html:<br>\n<span style="text-decoration:underline\;text-underline:single\;font-weight:bold\;language:en-US\;"><span style="font-family:tahoma\;"><span style="font-size:22.0pt\;"><span style="font-size:12px\;">Winona Mayoral Candidate Debate<br>\n<br>\n2012 City of Winona Mayoral Candidates:</span></span></span></span><br>\n<span style="font-size:12px\;"><span><span style="font-family: tahoma\;">George Borzyskowski</span></span><br>\n<span><span style="font-family: tahoma\;">Susan Hoghaug</span></span><br>\n<span><span style="font-family: tahoma\;">Mark F. Peterson</span></span><br>\n<span><span style="font-family: tahoma\;">John Anthony Skalitzky</span></span><br>\n<span><span style="font-family: tahoma\;">Joyce Tlougan</span></span><br>\n<span><span style="font-family: tahoma\;">Debbie White</span></span><br>\n&nbsp\;</span>
LOCATION:Riverport Inn & Express Suites
UID:e.1434.639
SEQUENCE:3
DTSTAMP:20260423T093058Z
URL:http://business.winonachamber.com/events/details/mayoral-candidate-debate-eggs-n-issues-07-24-2012-639
END:VEVENT

END:VCALENDAR
