BEGIN:VCALENDAR
VERSION:2.0
PRODID:-//ChamberMaster//Event Calendar 2.0//EN
METHOD:PUBLISH
X-PUBLISHED-TTL:P3D
REFRESH-INTERVAL:P3D
CALSCALE:GREGORIAN
BEGIN:VEVENT
DTSTART;VALUE=DATE:20130527
DTEND;VALUE=DATE:20130528
TRANSP:TRANSPARENT
X-MICROSOFT-CDO-ALLDAYEVENT:TRUE
SUMMARY:Memorial Day - Chamber Office Closed
DESCRIPTION:Memorial Day - Chamber Office Closed
X-ALT-DESC;FMTTYPE=text/html:Memorial Day - Chamber Office Closed
LOCATION:
UID:e.1434.1659
SEQUENCE:3
DTSTAMP:20260422T174706Z
URL:http://business.winonachamber.com/events/details/memorial-day-chamber-office-closed-05-27-2013-1659
END:VEVENT

END:VCALENDAR
