BEGIN:VCALENDAR
VERSION:2.0
PRODID:-//ChamberMaster//Event Calendar 2.0//EN
METHOD:PUBLISH
X-PUBLISHED-TTL:P3D
REFRESH-INTERVAL:P3D
CALSCALE:GREGORIAN
BEGIN:VEVENT
DTSTART;VALUE=DATE:20130719
DTEND;VALUE=DATE:20130721
TRANSP:TRANSPARENT
X-MICROSOFT-CDO-ALLDAYEVENT:TRUE
SUMMARY:Minnesota District Gold Wing Road Riders Rally
DESCRIPTION:The Goldwing Road Riders will be having their 2013 District Rally at the Riverport Inn on July 19th and 20th with seminars\,bike show\,supper rides\,bike games\,light parade and a full schedule of events.
X-ALT-DESC;FMTTYPE=text/html:The Goldwing Road Riders will be having their 2013 District Rally at the Riverport Inn on July 19th and 20th with seminars\,bike show\,supper rides\,bike games\,light parade and a full schedule of events.
LOCATION:
UID:e.1434.1265
SEQUENCE:3
DTSTAMP:20260422T141520Z
URL:http://business.winonachamber.com/events/details/minnesota-district-gold-wing-road-riders-rally-07-19-2013-1265
END:VEVENT

END:VCALENDAR
