BEGIN:VCALENDAR
VERSION:2.0
PRODID:-//ChamberMaster//Event Calendar 2.0//EN
METHOD:PUBLISH
X-PUBLISHED-TTL:P3D
REFRESH-INTERVAL:P3D
CALSCALE:GREGORIAN
BEGIN:VEVENT
DTSTART:20111108T140000Z
DTEND:20111108T160000Z
X-MICROSOFT-CDO-ALLDAYEVENT:FALSE
SUMMARY:MIRC-Blogging for Business
DESCRIPTION:Blogs are simple\, inexpensive ways to for businesses to gain a credible online presence and reach their current and new customers.  There are a variety of blogging tools available for business owners and many are free.  Participants will learn the basics of good blogging\, the tools available to make and update a blog\, and how to promote your blog and your business!
X-ALT-DESC;FMTTYPE=text/html:Blogs are simple\, inexpensive ways to for businesses to gain a credible online presence and reach their current and new customers.  There are a variety of blogging tools available for business owners and many are free.  Participants will learn the basics of good blogging\, the tools available to make and update a blog\, and how to promote your blog and your business!
LOCATION:Winona Area Chamber of Commerce\, Inc.
UID:e.1434.601
SEQUENCE:3
DTSTAMP:20260423T230328Z
URL:http://business.winonachamber.com/events/details/mirc-blogging-for-business-11-08-2011-601
END:VEVENT

END:VCALENDAR
