BEGIN:VCALENDAR
VERSION:2.0
PRODID:-//ChamberMaster//Event Calendar 2.0//EN
METHOD:PUBLISH
X-PUBLISHED-TTL:P3D
REFRESH-INTERVAL:P3D
CALSCALE:GREGORIAN
BEGIN:VEVENT
DTSTART:20110126T143000Z
DTEND:20110126T180000Z
X-MICROSOFT-CDO-ALLDAYEVENT:FALSE
SUMMARY:MIRC-Doing Business on the Internet (1)
DESCRIPTION:
X-ALT-DESC;FMTTYPE=text/html:
LOCATION:Winona Area Chamber of Commerce\, Inc.
UID:e.1434.557
SEQUENCE:3
DTSTAMP:20260424T225000Z
URL:http://business.winonachamber.com/events/details/mirc-doing-business-on-the-internet-1-01-26-2011-557
END:VEVENT

END:VCALENDAR
