BEGIN:VCALENDAR
VERSION:2.0
PRODID:-//ChamberMaster//Event Calendar 2.0//EN
METHOD:PUBLISH
X-PUBLISHED-TTL:P3D
REFRESH-INTERVAL:P3D
CALSCALE:GREGORIAN
BEGIN:VEVENT
DTSTART:20111006T130000Z
DTEND:20111006T140000Z
X-MICROSOFT-CDO-ALLDAYEVENT:FALSE
SUMMARY:MIRC-Doing Business on the Internet
DESCRIPTION:Explore options for using the internet in your business and find the best fit for your operation.\n \nThis hands-on workshop introduces the many options for businesses to develop their online presence and connect with customers today.    On the computer\, participants will research what other businesses are doing online\, explore the use of a number of online tools\, and set a plan in place to take advantage of the internet in your business.
X-ALT-DESC;FMTTYPE=text/html:Explore options for using the internet in your business and find the best fit for your operation.\n \nThis hands-on workshop introduces the many options for businesses to develop their online presence and connect with customers today.    On the computer\, participants will research what other businesses are doing online\, explore the use of a number of online tools\, and set a plan in place to take advantage of the internet in your business.\n \n
LOCATION:Winona Area Chamber of Commerce\, Inc.
UID:e.1434.597
SEQUENCE:3
DTSTAMP:20260424T001322Z
URL:http://business.winonachamber.com/events/details/mirc-doing-business-on-the-internet-10-06-2011-597
END:VEVENT

END:VCALENDAR
