BEGIN:VCALENDAR
VERSION:2.0
PRODID:-//ChamberMaster//Event Calendar 2.0//EN
METHOD:PUBLISH
X-PUBLISHED-TTL:P3D
REFRESH-INTERVAL:P3D
CALSCALE:GREGORIAN
BEGIN:VEVENT
DTSTART:20110322T123000Z
DTEND:20110322T153000Z
X-MICROSOFT-CDO-ALLDAYEVENT:FALSE
SUMMARY:MIRC-Doing Business on the Internet-3Hr.
DESCRIPTION:
X-ALT-DESC;FMTTYPE=text/html:
LOCATION:Winona Area Chamber of Commerce\, Inc.
UID:e.1434.569
SEQUENCE:3
DTSTAMP:20260424T134801Z
URL:http://business.winonachamber.com/events/details/mirc-doing-business-on-the-internet-3hr-03-22-2011-569
END:VEVENT

END:VCALENDAR
