BEGIN:VCALENDAR
VERSION:2.0
PRODID:-//ChamberMaster//Event Calendar 2.0//EN
METHOD:PUBLISH
X-PUBLISHED-TTL:P3D
REFRESH-INTERVAL:P3D
CALSCALE:GREGORIAN
BEGIN:VEVENT
DTSTART:20110524T193000Z
DTEND:20110524T220000Z
X-MICROSOFT-CDO-ALLDAYEVENT:FALSE
SUMMARY:MIRC-Google Tools for Business
DESCRIPTION:GOOGLE TOOLS: Explore a wide range of tools available free from Google to market your business and run it more efficiently. Some of the tools this workshop will explore are Google Sites to make simple web pages and Google Analytics to learn about traffic to your web site. Businesses will also learn how to use Gmail\, Calendar\, Google Docs and Talk to make your operations more efficient. Participants will set up a Google account and try out the tools hands-on in a computer lab.
X-ALT-DESC;FMTTYPE=text/html:GOOGLE TOOLS: Explore a wide range of tools available free from Google to market your business and run it more efficiently. Some of the tools this workshop will explore are Google Sites to make simple web pages and Google Analytics to learn about traffic to your web site. Businesses will also learn how to use Gmail\, Calendar\, Google Docs and Talk to make your operations more efficient. Participants will set up a Google account and try out the tools hands-on in a computer lab.
LOCATION:Winona Area Chamber of Commerce\, Inc.
UID:e.1434.586
SEQUENCE:3
DTSTAMP:20260424T115813Z
URL:http://business.winonachamber.com/events/details/mirc-google-tools-for-business-05-24-2011-586
END:VEVENT

END:VCALENDAR
