BEGIN:VCALENDAR
VERSION:2.0
PRODID:-//ChamberMaster//Event Calendar 2.0//EN
METHOD:PUBLISH
X-PUBLISHED-TTL:P3D
REFRESH-INTERVAL:P3D
CALSCALE:GREGORIAN
BEGIN:VEVENT
DTSTART:20110524T130000Z
DTEND:20110524T150000Z
X-MICROSOFT-CDO-ALLDAYEVENT:FALSE
SUMMARY:MIRC-Marketing Your Website
DESCRIPTION:MARKETING YOUR WEBSITE: Explore strategies for getting your website found by customers. Just having a website is not enough\, you need visitors\, you need to make sure your customers can find and use your website. This hands-on workshop introduces effective ways to market websites. Topics include getting found by search engines\, viral marketing and using online tools like e-newsletters to drive traffic to your site. Participants will research key words related to their business\, explore how to purchase online advertising\, and see examples from businesses that use social media to get noticed. The workshop will also cover ways to find and target customers online.  Why aren't people finding me? \nHow do I drive traffic to my site?\nGain valuable insights to take back \nto your business or organization.\nThe content for this class assumes you have a business website \nand are working on a marketing plan for your website and/or business.
X-ALT-DESC;FMTTYPE=text/html:MARKETING YOUR WEBSITE: Explore strategies for getting your website found by customers. Just having a website is not enough\, you need visitors\, you need to make sure your customers can find and use your website. This hands-on workshop introduces effective ways to market websites. Topics include getting found by search engines\, viral marketing and using online tools like e-newsletters to drive traffic to your site. Participants will research key words related to their business\, explore how to purchase online advertising\, and see examples from businesses that use social media to get noticed. The workshop will also cover ways to find and target customers online.  Why aren't people finding me? \nHow do I drive traffic to my site?\nGain valuable insights to take back \nto your business or organization.\nThe content for this class assumes you have a business website \nand are working on a marketing plan for your website and/or business.\n
LOCATION:Winona Area Chamber of Commerce\, Inc.
UID:e.1434.585
SEQUENCE:3
DTSTAMP:20260424T120024Z
URL:http://business.winonachamber.com/events/details/mirc-marketing-your-website-05-24-2011-585
END:VEVENT

END:VCALENDAR
