BEGIN:VCALENDAR
VERSION:2.0
PRODID:-//ChamberMaster//Event Calendar 2.0//EN
METHOD:PUBLISH
X-PUBLISHED-TTL:P3D
REFRESH-INTERVAL:P3D
CALSCALE:GREGORIAN
BEGIN:VEVENT
DTSTART:20111012T130000Z
DTEND:20111012T153000Z
X-MICROSOFT-CDO-ALLDAYEVENT:FALSE
SUMMARY:MIRC-Selling On Line
DESCRIPTION:From Craig's List to Shopping Carts: Introduction to Selling Online.  Businesses are doing more and more transactions online to sell products directly as well as manage their bank accounts. This two-hour hands-on workshop covers the major concerns related to online transactions like security\, shipping\, and costs. Participants will explore the use of online tools like Paypal and online banking platforms to help make more informed decisions.
X-ALT-DESC;FMTTYPE=text/html:From Craig's List to Shopping Carts: Introduction to Selling Online.  Businesses are doing more and more transactions online to sell products directly as well as manage their bank accounts. This two-hour hands-on workshop covers the major concerns related to online transactions like security\, shipping\, and costs. Participants will explore the use of online tools like Paypal and online banking platforms to help make more informed decisions.\n \n
LOCATION:Winona Area Chamber of Commerce\, Inc.
UID:e.1434.598
SEQUENCE:3
DTSTAMP:20260424T015113Z
URL:http://business.winonachamber.com/events/details/mirc-selling-on-line-10-12-2011-598
END:VEVENT

END:VCALENDAR
