BEGIN:VCALENDAR
VERSION:2.0
PRODID:-//ChamberMaster//Event Calendar 2.0//EN
METHOD:PUBLISH
X-PUBLISHED-TTL:P3D
REFRESH-INTERVAL:P3D
CALSCALE:GREGORIAN
BEGIN:VEVENT
DTSTART:20111025T130000Z
DTEND:20111025T150000Z
X-MICROSOFT-CDO-ALLDAYEVENT:FALSE
SUMMARY:MIRC-Social Media
DESCRIPTION:Explore ways your business can use social media and online networking tools to communicate with customers.  \n \nWhile the Yellow Pages and traditional websites are still useful for advertising your business or community information\, many business owners are beginning to interact with their customers through websites such as Facebook\, Twitter and LinkedIn.  These methods can help you reach new and hard-to-reach audiences.  This class will explore basic fundamentals of popular social networking sites\, examples of use for\, and the potential benefits social media could bring to your business and community.
X-ALT-DESC;FMTTYPE=text/html:Explore ways your business can use social media and online networking tools to communicate with customers.  \n \nWhile the Yellow Pages and traditional websites are still useful for advertising your business or community information\, many business owners are beginning to interact with their customers through websites such as Facebook\, Twitter and LinkedIn.  These methods can help you reach new and hard-to-reach audiences.  This class will explore basic fundamentals of popular social networking sites\, examples of use for\, and the potential benefits social media could bring to your business and community.\n
LOCATION:Winona Area Chamber of Commerce\, Inc.
UID:e.1434.600
SEQUENCE:3
DTSTAMP:20260424T001452Z
URL:http://business.winonachamber.com/events/details/mirc-social-media-10-25-2011-600
END:VEVENT

END:VCALENDAR
